BEGIN:VCALENDAR
VERSION:2.0
PRODID:-//173.212.224.61//NONSGML kigkonsult.se iCalcreator 2.20//
CALSCALE:GREGORIAN
METHOD:PUBLISH
X-WR-CALNAME:Ballintubber Abbey
X-WR-CALDESC:
X-FROM-URL:http://www.ballintubberabbey.ie
X-WR-TIMEZONE:Europe/Dublin
BEGIN:VTIMEZONE
TZID:Europe/Dublin
X-LIC-LOCATION:Europe/Dublin
BEGIN:STANDARD
DTSTART:20171029T020000
TZOFFSETFROM:+0100
TZOFFSETTO:+0000
TZNAME:GMT
END:STANDARD
BEGIN:DAYLIGHT
DTSTART:20180325T010000
TZOFFSETFROM:+0000
TZOFFSETTO:+0100
TZNAME:IST
END:DAYLIGHT
END:VTIMEZONE
BEGIN:VEVENT
UID:ai1ec-1059@www.ballintubberabbey.ie
DTSTAMP:20171107T041802Z
CATEGORIES:
CONTACT:
DESCRIPTION:Tochar Walk will take place on Saturday 24th June departing the
  Abbey at 8.30am after registration.  A back up car will accompany the wal
 kers along the route to the end and carry your packed lunch for you. Conta
 ct 094-9030934  for more details. 
DTSTART;TZID=Europe/Dublin:20170624T083000
SEQUENCE:0
SUMMARY:Tochar Phadraig Walk June 24th 2017
URL:http://www.ballintubberabbey.ie/event/tochar-phadraigh-walk/
X-COST-TYPE:free
X-ALT-DESC;FMTTYPE=text/html:<!DOCTYPE HTML PUBLIC '-//W3C//DTD HTML 3.2//E
 N'>\\n<HTML>\\n<HEAD>\\n<TITLE></TITLE>\\n</HEAD>\\n<BODY><p>Tochar Walk w
 ill take place on Saturday 24th June departing the Abbey at 8.30am after r
 egistration.  A back up car will accompany the walkers along the route to 
 the end and carry your packed lunch for you. Contact 094-9030934  for more
  details. </p>\n</BODY></HTML>
X-COST:€10
X-INSTANT-EVENT:1
END:VEVENT
END:VCALENDAR
