BEGIN:VCALENDAR
VERSION:2.0
PRODID:-//173.212.224.61//NONSGML kigkonsult.se iCalcreator 2.20//
CALSCALE:GREGORIAN
METHOD:PUBLISH
X-FROM-URL:http://www.ballintubberabbey.ie
X-WR-TIMEZONE:Europe/Dublin
BEGIN:VTIMEZONE
TZID:Europe/Dublin
X-LIC-LOCATION:Europe/Dublin
BEGIN:STANDARD
DTSTART:20171029T020000
TZOFFSETFROM:+0100
TZOFFSETTO:+0000
TZNAME:GMT
END:STANDARD
BEGIN:DAYLIGHT
DTSTART:20180325T010000
TZOFFSETFROM:+0000
TZOFFSETTO:+0100
TZNAME:IST
END:DAYLIGHT
END:VTIMEZONE
BEGIN:VEVENT
UID:ai1ec-830@www.ballintubberabbey.ie
DTSTAMP:20171107T035437Z
CATEGORIES:
CONTACT:
DESCRIPTION:<p>Passion Play on the Ground of Ballintubber Abbey from 9pm-10
 pm</p>\n<p>Sheltered Stand with seating.</p>\n<p>Come early to get a seat.
 </p>
DTSTART;TZID=Europe/Dublin:20160322T210000
DTEND;TZID=Europe/Dublin:20160324T210000
GEO:+53.745083;-9.298371
LOCATION:Ballintubber Abbey @ Ballintober\, Co. Mayo\, Ireland
RDATE;TZID=Europe/Dublin:20160322T210000
RDATE;TZID=Europe/Dublin:20160323T210000
SEQUENCE:0
SUMMARY:Passion Play 2017
URL:http://www.ballintubberabbey.ie/event/passion-play-2016/
X-COST-TYPE:external
X-COST:Donation
END:VEVENT
BEGIN:VEVENT
UID:ai1ec-829@www.ballintubberabbey.ie
DTSTAMP:20171107T035437Z
CATEGORIES:
CONTACT:
DESCRIPTION:<p>Tóchar Walk departing Ballintubber Abbey at 11.00am This is 
 a half Tóchar </p>\n<p>Contact 094-9030934</p>
DTSTART;TZID=Europe/Dublin:20170417T110000
GEO:+53.745083;-9.298371
LOCATION:Ballintubber Abbey @ Ballintober\, Co. Mayo\, Ireland
SEQUENCE:0
SUMMARY:National Pilgrim Paths Tóchar  Walk 2017
URL:http://www.ballintubberabbey.ie/event/national-pilgrim-paths-tochar-wal
 k-2016/
X-COST-TYPE:external
X-COST:€10.00
X-INSTANT-EVENT:1
END:VEVENT
BEGIN:VEVENT
UID:ai1ec-1211@www.ballintubberabbey.ie
DTSTAMP:20171107T035437Z
CATEGORIES:
CONTACT:
DESCRIPTION:<p>Tóchar walk will take place on Saturday 27th May 2017 depart
 ing the Abbey at 8.30am after registration. A back up car will accompany t
 he walkers along the route to the end and carry your packed lunch for you.
  Contact Audrey or Teresa at 094-9030934 for more details.</p>
DTSTART;TZID=Europe/Dublin:20170527T083000
SEQUENCE:0
SUMMARY:Tochar Phadraig Walk 27th May 2017
URL:http://www.ballintubberabbey.ie/event/tochar-phadraig-walk-27th-may-201
 7/
X-COST-TYPE:free
X-COST:€10.00
X-INSTANT-EVENT:1
END:VEVENT
BEGIN:VEVENT
UID:ai1ec-1059@www.ballintubberabbey.ie
DTSTAMP:20171107T035437Z
CATEGORIES:
CONTACT:
DESCRIPTION:<p>Tochar Walk will take place on Saturday 24th June departing 
 the Abbey at 8.30am after registration.  A back up car will accompany the 
 walkers along the route to the end and carry your packed lunch for you. Co
 ntact 094-9030934  for more details. </p>
DTSTART;TZID=Europe/Dublin:20170624T083000
SEQUENCE:0
SUMMARY:Tochar Phadraig Walk June 24th 2017
URL:http://www.ballintubberabbey.ie/event/tochar-phadraigh-walk/
X-COST-TYPE:free
X-COST:€10
X-INSTANT-EVENT:1
END:VEVENT
BEGIN:VEVENT
UID:ai1ec-577@ballintubberabbey.ie
DTSTAMP:20171107T035437Z
CATEGORIES:
CONTACT:
DESCRIPTION:<p>Tóchar Walk </p>
DTSTART;TZID=Europe/Dublin:20170730T203000
GEO:+53.745083;-9.298371
LOCATION:Ballintubber Abbey  @ Ballintober\, Co. Mayo\, Ireland
SEQUENCE:0
SUMMARY:Tóchar Walk Reek Sunday 2017
URL:http://www.ballintubberabbey.ie/event/tochar-walk-2/
X-COST-TYPE:free
X-INSTANT-EVENT:1
END:VEVENT
BEGIN:VEVENT
UID:ai1ec-1354@www.ballintubberabbey.ie
DTSTAMP:20171107T035437Z
CATEGORIES:
CONTACT:Ballintubber Abbey  \; 094-9030934\; info@ballintubberabbey.ie\; ww
 w.ballintubberabbey.ie
DESCRIPTION:<p>Summer Gathering Mass will be celebrated on Church Island on
  Friday 21st July at 7.30 pm</p>\n<p>Everyone is welcome to this special o
 ccasion. </p>\n<p>Refreshments served. </p>
DTSTART;TZID=Europe/Dublin:20170811T193000
GEO:+53.745083;-9.298371
LOCATION:Church Island @ Ballintober\, Co. Mayo\, Ireland
SEQUENCE:0
SUMMARY:Church Island Mass
URL:http://www.ballintubberabbey.ie/event/church-island-mass/
X-COST-TYPE:free
X-INSTANT-EVENT:1
END:VEVENT
BEGIN:VEVENT
UID:ai1ec-1355@www.ballintubberabbey.ie
DTSTAMP:20171107T035437Z
CATEGORIES:
CONTACT:Ballintubber Abbey\; 094-9030934\; info@ballintubberabbey.ie\; www.
 ballintubberabbey.ie
DESCRIPTION:<p>This 30k cycle route (3-4 hrs) will generally follow the rou
 te of Friar Burke and Sean a Sagart\, the priest hunter\, through Derreend
 afderg and Srah until they reach  the spot where the priest hunter met his
  death in Partry.</p>\n<p>Bring along a packed lunch to have on the route.
  </p>
DTSTART;TZID=Europe/Dublin:20170813T123000
GEO:+53.745083;-9.298371
LOCATION:Ballintubber Abbey  @ Ballintober\, Co. Mayo\, Ireland
SEQUENCE:0
SUMMARY:Sean a Sagart Cycle
URL:http://www.ballintubberabbey.ie/event/sean-a-sagart-cycle/
X-COST-TYPE:free
X-INSTANT-EVENT:1
END:VEVENT
BEGIN:VEVENT
UID:ai1ec-1369@www.ballintubberabbey.ie
DTSTAMP:20171107T035437Z
CATEGORIES:
CONTACT:Fr Frank Fahey\; 094-9030934\; info@ballintubberabbey.ie
DESCRIPTION:<p>Mass will be celebrated on the shores of Lough Carra on Mond
 ay evening 14th August at 8.00pm. Everyone welcome. </p>
DTSTART;TZID=Europe/Dublin:20170814T200000
LOCATION:Castleburke\, Clogher\,
SEQUENCE:0
SUMMARY:Lakeside Mass at Castleburke Monday 14th August
URL:http://www.ballintubberabbey.ie/event/lakeside-mass-at-castleburke-mond
 ay-14th-august/
X-COST-TYPE:free
X-INSTANT-EVENT:1
END:VEVENT
BEGIN:VEVENT
UID:ai1ec-579@ballintubberabbey.ie
DTSTAMP:20171107T035437Z
CATEGORIES:
CONTACT:
DESCRIPTION:
DTSTART;TZID=Europe/Dublin:20170826T203000
GEO:+53.745083;-9.298371
LOCATION:Ballintubber Abbey  @ Ballintober\, Co. Mayo\, Ireland
SEQUENCE:0
SUMMARY:Tóchar Walk 26th August 2017
URL:http://www.ballintubberabbey.ie/event/tochar-walk-3/
X-COST-TYPE:free
X-INSTANT-EVENT:1
END:VEVENT
BEGIN:VEVENT
UID:ai1ec-1209@www.ballintubberabbey.ie
DTSTAMP:20171107T035437Z
CATEGORIES:
CONTACT:
DESCRIPTION:<p>Our Christmas Eve Midnight Mass will be celebrated by Fr Fra
 nk Fahey in Ballintubber Abbey at 11.00pm on Saturday 24th December.</p>
DTSTART;TZID=Europe/Dublin:20171224T230000
SEQUENCE:0
SUMMARY:Midnight Mass at Ballintubber Abbey
URL:http://www.ballintubberabbey.ie/event/midnight-mass-at-ballintubber-abb
 ey/
X-COST-TYPE:free
X-INSTANT-EVENT:1
END:VEVENT
BEGIN:VEVENT
UID:ai1ec-1212@www.ballintubberabbey.ie
DTSTAMP:20171107T035437Z
CATEGORIES:
CONTACT:
DESCRIPTION:<p>Christmas Day Mass will be celebrated by Fr Frank Fahey at 1
 1.00am in Ballintubber Abbey.</p>
DTSTART;TZID=Europe/Dublin:20171225T110000
SEQUENCE:0
SUMMARY:Christmas Day Mass at Ballintubber Abbey
URL:http://www.ballintubberabbey.ie/event/christmas-day-mass-at-ballintubbe
 r-abbey/
X-COST-TYPE:free
X-INSTANT-EVENT:1
END:VEVENT
BEGIN:VEVENT
UID:ai1ec-1210@www.ballintubberabbey.ie
DTSTAMP:20171107T035437Z
CATEGORIES:
CONTACT:
DESCRIPTION:<p>Our Half Tochar Walk will take place again this St Stephen’s
  Day departing the Abbey by bus to Aughagower at 11.00am after registratio
 n in the Abbey. Pilgrims will then walk back to Abbey. A back up car will 
 accompany the walkers along the route to the end and carry your packed lun
 ch for you. Contact Audrey or Teresa at 094-9030934 for more details.</p>
DTSTART;TZID=Europe/Dublin:20171226T110000
SEQUENCE:0
SUMMARY:St Stephen’s Day Half Tochar Walk
URL:http://www.ballintubberabbey.ie/event/st-stephens-day-half-tochar-walk/
X-COST-TYPE:free
X-COST:€10.00
X-INSTANT-EVENT:1
END:VEVENT
END:VCALENDAR
